BEGIN:VCALENDAR
VERSION:2.0
PRODID:-//jEvents 2.0 for Joomla//EN
CALSCALE:GREGORIAN
METHOD:PUBLISH
BEGIN:VTIMEZONE
TZID:Europe/Zurich
BEGIN:STANDARD
DTSTART:20151025T020000
RDATE:20160327T030000
TZOFFSETFROM:+0200
TZOFFSETTO:+0100
TZNAME:Europe/Zurich CET
END:STANDARD
BEGIN:STANDARD
DTSTART:20161030T020000
RDATE:20170326T030000
TZOFFSETFROM:+0200
TZOFFSETTO:+0100
TZNAME:Europe/Zurich CET
END:STANDARD
BEGIN:STANDARD
DTSTART:20171029T020000
RDATE:20180325T030000
TZOFFSETFROM:+0200
TZOFFSETTO:+0100
TZNAME:Europe/Zurich CET
END:STANDARD
BEGIN:STANDARD
DTSTART:20181028T020000
RDATE:20190331T030000
TZOFFSETFROM:+0200
TZOFFSETTO:+0100
TZNAME:Europe/Zurich CET
END:STANDARD
BEGIN:STANDARD
DTSTART:20191027T020000
RDATE:20200329T030000
TZOFFSETFROM:+0200
TZOFFSETTO:+0100
TZNAME:Europe/Zurich CET
END:STANDARD
BEGIN:STANDARD
DTSTART:20201025T020000
RDATE:20210328T030000
TZOFFSETFROM:+0200
TZOFFSETTO:+0100
TZNAME:Europe/Zurich CET
END:STANDARD
BEGIN:DAYLIGHT
DTSTART:20150625T100000
RDATE:20151025T020000
TZOFFSETFROM:+0100
TZOFFSETTO:+0200
TZNAME:Europe/Zurich CEST
END:DAYLIGHT
BEGIN:DAYLIGHT
DTSTART:20160327T030000
RDATE:20161030T020000
TZOFFSETFROM:+0100
TZOFFSETTO:+0200
TZNAME:Europe/Zurich CEST
END:DAYLIGHT
BEGIN:DAYLIGHT
DTSTART:20170326T030000
RDATE:20171029T020000
TZOFFSETFROM:+0100
TZOFFSETTO:+0200
TZNAME:Europe/Zurich CEST
END:DAYLIGHT
BEGIN:DAYLIGHT
DTSTART:20180325T030000
RDATE:20181028T020000
TZOFFSETFROM:+0100
TZOFFSETTO:+0200
TZNAME:Europe/Zurich CEST
END:DAYLIGHT
BEGIN:DAYLIGHT
DTSTART:20190331T030000
RDATE:20191027T020000
TZOFFSETFROM:+0100
TZOFFSETTO:+0200
TZNAME:Europe/Zurich CEST
END:DAYLIGHT
BEGIN:DAYLIGHT
DTSTART:20200329T030000
RDATE:20201025T020000
TZOFFSETFROM:+0100
TZOFFSETTO:+0200
TZNAME:Europe/Zurich CEST
END:DAYLIGHT
END:VTIMEZONE
BEGIN:VEVENT
UID:83e3ae197fe061dd90b678ddf863aedb
CATEGORIES:OGB Anlass
CREATED:20151231T104937
SUMMARY:Generalversammlung AVIA Schweiz
LOCATION:Meiringen
DESCRIPTION;ENCODING=QUOTED-PRINTABLE:<p>Generalversammlung der AVIA Schweiz in Meiringen, organisiert durch die 
 OGB.</p><p> </p><p><span style="text-decoration: underline;">Update 1. Febr
 uar 2016:</span></p><p>Die Generalversammlung der AVIA Luftwaffe findet am 
 25.06.2016 in Meiringen statt. <br />Anträge an die Generalversammlung könn
 en bis 26.04.2016 an den Zentralvorstand der AVIA Luftwaffe eingereicht wer
 den.<br /><br /> <strong>AVIA - Gesellschaft der Offiziere der Luftwaffe<br
  /></strong>Zentral-Sekretär ai<br />Major Martin Schlatter<br />am Dorfbac
 h 23, 8308 Illnau<br /><span id="cloak2633"><span id="cloak89bf750b6e6c45cd
 f905ccb40804a597">Diese E-Mail-Adresse ist vor Spambots geschützt! Zur Anze
 ige muss JavaScript eingeschaltet sein!</span><script type='text/javascript
 '>
				document.getElementById('cloak89bf750b6e6c45cdf905ccb40804a597').inn
 erHTML = '';
				var prefix = '&#109;a' + 'i&#108;' + '&#116;o';
				var pa
 th = 'hr' + 'ef' + '=';
				var addy89bf750b6e6c45cdf905ccb40804a597 = 's&#
 101;kr&#101;t&#97;r&#105;&#97;t' + '&#64;';
				addy89bf750b6e6c45cdf905ccb
 40804a597 = addy89bf750b6e6c45cdf905ccb40804a597 + '&#97;v&#105;&#97;-l&#11
 7;ftw&#97;ff&#101;' + '&#46;' + 'ch';
				var addy_text89bf750b6e6c45cdf905
 ccb40804a597 = 's&#101;kr&#101;t&#97;r&#105;&#97;t' + '&#64;' + '&#97;v&#10
 5;&#97;-l&#117;ftw&#97;ff&#101;' + '&#46;' + 'ch';document.getElementById('
 cloak89bf750b6e6c45cdf905ccb40804a597').innerHTML += '<a ' + path + '\'' + 
 prefix + ':' + addy89bf750b6e6c45cdf905ccb40804a597 + '\'>'+addy_text89bf75
 0b6e6c45cdf905ccb40804a597+'<\/a>';
		</script></span></p>
X-EXTRAINFO:Generalversammlung AVIA Schweiz \nMeiringen \nOrganisiert durch die OGB
DTSTAMP:20260424T005459Z
DTSTART;TZID=Europe/Zurich:20160625T100000
SEQUENCE:0
TRANSP:OPAQUE
END:VEVENT
END:VCALENDAR