BEGIN:VCALENDAR
VERSION:2.0
PRODID:-//jEvents 2.0 for Joomla//EN
CALSCALE:GREGORIAN
METHOD:PUBLISH
BEGIN:VTIMEZONE
TZID:Europe/Zurich
BEGIN:STANDARD
DTSTART:20151025T020000
RDATE:20160327T030000
TZOFFSETFROM:+0200
TZOFFSETTO:+0100
TZNAME:Europe/Zurich CET
END:STANDARD
BEGIN:STANDARD
DTSTART:20161030T020000
RDATE:20170326T030000
TZOFFSETFROM:+0200
TZOFFSETTO:+0100
TZNAME:Europe/Zurich CET
END:STANDARD
BEGIN:STANDARD
DTSTART:20171029T020000
RDATE:20180325T030000
TZOFFSETFROM:+0200
TZOFFSETTO:+0100
TZNAME:Europe/Zurich CET
END:STANDARD
BEGIN:STANDARD
DTSTART:20181028T020000
RDATE:20190331T030000
TZOFFSETFROM:+0200
TZOFFSETTO:+0100
TZNAME:Europe/Zurich CET
END:STANDARD
BEGIN:STANDARD
DTSTART:20191027T020000
RDATE:20200329T030000
TZOFFSETFROM:+0200
TZOFFSETTO:+0100
TZNAME:Europe/Zurich CET
END:STANDARD
BEGIN:STANDARD
DTSTART:20201025T020000
RDATE:20210328T030000
TZOFFSETFROM:+0200
TZOFFSETTO:+0100
TZNAME:Europe/Zurich CET
END:STANDARD
BEGIN:DAYLIGHT
DTSTART:20150528T083000
RDATE:20151025T020000
TZOFFSETFROM:+0100
TZOFFSETTO:+0200
TZNAME:Europe/Zurich CEST
END:DAYLIGHT
BEGIN:DAYLIGHT
DTSTART:20160327T030000
RDATE:20161030T020000
TZOFFSETFROM:+0100
TZOFFSETTO:+0200
TZNAME:Europe/Zurich CEST
END:DAYLIGHT
BEGIN:DAYLIGHT
DTSTART:20170326T030000
RDATE:20171029T020000
TZOFFSETFROM:+0100
TZOFFSETTO:+0200
TZNAME:Europe/Zurich CEST
END:DAYLIGHT
BEGIN:DAYLIGHT
DTSTART:20180325T030000
RDATE:20181028T020000
TZOFFSETFROM:+0100
TZOFFSETTO:+0200
TZNAME:Europe/Zurich CEST
END:DAYLIGHT
BEGIN:DAYLIGHT
DTSTART:20190331T030000
RDATE:20191027T020000
TZOFFSETFROM:+0100
TZOFFSETTO:+0200
TZNAME:Europe/Zurich CEST
END:DAYLIGHT
BEGIN:DAYLIGHT
DTSTART:20200329T030000
RDATE:20201025T020000
TZOFFSETFROM:+0100
TZOFFSETTO:+0200
TZNAME:Europe/Zurich CEST
END:DAYLIGHT
END:VTIMEZONE
BEGIN:VEVENT
UID:b17d245b26d88d5206dcdfc18247b231
CATEGORIES:OGB Anlass
CREATED:20160412T142538
SUMMARY:Gelebte Kameradschaft - gemeinsam zum eidg.Feldschiessen
DESCRIPTION;ENCODING=QUOTED-PRINTABLE:<p>Wir gehen gemeinsam an das Feldschiessen in Riedbach und stellen unsere 
 Treffsicherheit unter Beweis. Nach dem Schiessen stärken wir uns in der Fes
 twirtschaft, so dass wir den Tag voller Elan in Angriff nehmen können.<br /
 ><strong>Anmeldungen bis 20. Mai 2016</strong> an <span id="cloakca4cc9ed6e
 84f0169bdfd98ca4e3ba4a">Diese E-Mail-Adresse ist vor Spambots geschützt! Zu
 r Anzeige muss JavaScript eingeschaltet sein!</span><script type='text/java
 script'>
				document.getElementById('cloakca4cc9ed6e84f0169bdfd98ca4e3ba4a
 ').innerHTML = '';
				var prefix = '&#109;a' + 'i&#108;' + '&#116;o';
				
 var path = 'hr' + 'ef' + '=';
				var addyca4cc9ed6e84f0169bdfd98ca4e3ba4a 
 = 'd&#97;m&#105;&#97;n.schm&#105;d' + '&#64;';
				addyca4cc9ed6e84f0169bdf
 d98ca4e3ba4a = addyca4cc9ed6e84f0169bdfd98ca4e3ba4a + '&#111;gb' + '&#46;' 
 + 'ch';
				var addy_textca4cc9ed6e84f0169bdfd98ca4e3ba4a = 'd&#97;m&#105;&
 #97;n.schm&#105;d' + '&#64;' + '&#111;gb' + '&#46;' + 'ch';document.getElem
 entById('cloakca4cc9ed6e84f0169bdfd98ca4e3ba4a').innerHTML += '<a ' + path 
 + '\'' + prefix + ':' + addyca4cc9ed6e84f0169bdfd98ca4e3ba4a + '\'>'+addy_t
 extca4cc9ed6e84f0169bdfd98ca4e3ba4a+'<\/a>';
		</script> inklusive Angabe, 
 ob Pistole, Gewehr oder beides geschossen werden will.</p><p>Weitere Inform
 ationen finden Sie in der <a href="images/Anlaesse/2016/160528_Einladung_Fe
 ldschiessen_2016.pdf" target="_blank">PDF Einladung.</a></p><p> </p><p> </p
 >
X-EXTRAINFO:Eidg. Feldschiessen 2016\nSchiesstand Riedbach\nGemeinsames Absolvieren des
  Eidg. Feldschiessens
DTSTAMP:20260424T005358Z
DTSTART;TZID=Europe/Zurich:20160528T083000
SEQUENCE:0
TRANSP:OPAQUE
END:VEVENT
END:VCALENDAR